BEGIN:VCALENDAR
VERSION:2.0
PRODID:SchoolNow
CALSCALE:GREGORIAN
BEGIN:VEVENT
UID:b2b3e866-c169-11f0-bfe6-0e927d5bc80f
DTSTAMP:20251114T145336Z
SUMMARY:Fall into Reading Event
LOCATION:George Long Elementary Media Center
URL;VALUE=URI:https://www.grasslakeschools.com/gles/calendar/8795498/fall-i
 nto-reading-event
DTSTART:20251118T230000Z
DTEND:20251119T000000Z
ATTACH;FILENAME=Fall into Reading Info.pdf;FMTTYPE=application/pdf:https://
 campussuite-storage.s3.amazonaws.com/prod/1559119/626e8fbe-b759-11ec-8987-
 0e8ab21cc413/3033859/3b0a3d6c-bbdb-11f0-aa02-0a58a9feac02/file/Fall into R
 eading Info.pdf
END:VEVENT
END:VCALENDAR
