BEGIN:VCALENDAR
VERSION:2.0
PRODID:SchoolNow
CALSCALE:GREGORIAN
BEGIN:VEVENT
UID:8141a5c0-c169-11f0-8d54-0a58a9feac02
DTSTAMP:20251114T145213Z
SUMMARY:Hearing & Vision Testing
LOCATION:George Long Elementary
URL;VALUE=URI:https://www.grasslakeschools.com/gles/calendar/8795493/hearin
 g-vision-testing-clone
DTSTART;VALUE=DATE:20251209
DTEND;VALUE=DATE:20251210
ATTACH;FILENAME=Hearing & vision Testing Information.pdf;FMTTYPE=applicatio
 n/pdf:https://campussuite-storage.s3.amazonaws.com/prod/1559119/626e8fbe-b
 759-11ec-8987-0e8ab21cc413/3038387/59f6630c-c169-11f0-8d63-0a58a9feac02/fi
 le/Hearing & vision Testing Information.pdf
END:VEVENT
END:VCALENDAR
