BEGIN:VCALENDAR
VERSION:2.0
PRODID:SchoolNow
CALSCALE:GREGORIAN
BEGIN:VEVENT
UID:78f71102-c169-11f0-a908-0a58a9feac02
DTSTAMP:20251114T145159Z
SUMMARY:Hearing & Vision Testing
LOCATION:George Long Elementary
URL;VALUE=URI:https://www.grasslakeschools.com/gles/calendar/8795492/hearin
 g-vision-testing
DTSTART;VALUE=DATE:20251208
DTEND;VALUE=DATE:20251209
ATTACH;FILENAME=Hearing & vision Testing Information.pdf;FMTTYPE=applicatio
 n/pdf:https://campussuite-storage.s3.amazonaws.com/prod/1559119/626e8fbe-b
 759-11ec-8987-0e8ab21cc413/3038387/59f6630c-c169-11f0-8d63-0a58a9feac02/fi
 le/Hearing & vision Testing Information.pdf
END:VEVENT
END:VCALENDAR
