BEGIN:VCALENDAR
VERSION:2.0
PRODID:SchoolNow
CALSCALE:GREGORIAN
BEGIN:VEVENT
UID:a70ca662-bbdb-11f0-836f-0afffa06ec9d
DTSTAMP:20251107T131412Z
SUMMARY:Fall into Reading Information Night
LOCATION:George Long Elementary Media Center
URL;VALUE=URI:https://www.grasslakeschools.com/gles/calendar/8782813/fall-i
 nto-reading-information-night
DTSTART:20251107T230000Z
DTEND:20251108T000000Z
ATTACH;FILENAME=Fall into Reading Info.jpg;FMTTYPE=image/jpeg:https://campu
 ssuite-storage.s3.amazonaws.com/prod/1559119/626e8fbe-b759-11ec-8987-0e8ab
 21cc413/3033861/6aa07f0a-bbdb-11f0-bf0b-0a58a9feac02/file/Fall into Readin
 g Info.jpg
END:VEVENT
END:VCALENDAR
