BEGIN:VCALENDAR
VERSION:2.0
PRODID:SchoolNow
CALSCALE:GREGORIAN
BEGIN:VEVENT
UID:12abb9ae-737e-11f0-97af-0afff137d3ad
DTSTAMP:20250807T110256Z
SUMMARY:GLES Fall Picture Day
LOCATION:George Long Elementary
URL;VALUE=URI:https://www.grasslakeschools.com/gles/calendar/8478446/gles-f
 all-picture-day
DTSTART:20250807T110100Z
DTEND:20250807T120100Z
ATTACH;FILENAME=GLES Fall Pic Order Form.pdf;FMTTYPE=application/pdf:https:
 //campussuite-storage.s3.amazonaws.com/prod/1559119/626e8fbe-b759-11ec-898
 7-0e8ab21cc413/2989658/0cc8e0e8-737e-11f0-ac65-0a58a9feac02/file/GLES Fall
  Pic Order Form.pdf
END:VEVENT
END:VCALENDAR
