BEGIN:VCALENDAR
VERSION:2.0
PRODID:SchoolNow
CALSCALE:GREGORIAN
BEGIN:VEVENT
UID:78e95932-5d95-11f0-afc9-0273f81fc779
DTSTAMP:20250710T135500Z
SUMMARY:Parent - Teacher Conferences
URL;VALUE=URI:https://www.grasslakeschools.com/gles/calendar/8401924/parent
 -teacher-conferences
DTSTART:20251016T170000Z
DTEND:20251016T220000Z
END:VEVENT
END:VCALENDAR
