BEGIN:VCALENDAR
VERSION:2.0
PRODID:SchoolNow
CALSCALE:GREGORIAN
BEGIN:VEVENT
UID:dca17564-52cc-11f0-abed-0203e6c8d72f
DTSTAMP:20250626T203347Z
SUMMARY:Board of Education Meeting - April 2026
LOCATION:George Long Elementary Media Center
URL;VALUE=URI:https://www.grasslakeschools.com/calendar/8357670/board-of-ed
 ucation-meeting-april-2026
DTSTART:20260413T230000Z
DTEND:20260414T000000Z
END:VEVENT
END:VCALENDAR
